BEGIN:VCALENDAR
VERSION:2.0
PRODID:-//Mateusz Gwizdałła - ECPv6.15.20//NONSGML v1.0//EN
CALSCALE:GREGORIAN
METHOD:PUBLISH
X-ORIGINAL-URL:https://mateuszgwizdalla.com
X-WR-CALDESC:Events for Mateusz Gwizdałła
REFRESH-INTERVAL;VALUE=DURATION:PT1H
X-Robots-Tag:noindex
X-PUBLISHED-TTL:PT1H
BEGIN:VTIMEZONE
TZID:Europe/Moscow
BEGIN:STANDARD
TZOFFSETFROM:+0300
TZOFFSETTO:+0300
TZNAME:MSK
DTSTART:20220101T000000
END:STANDARD
END:VTIMEZONE
BEGIN:VEVENT
DTSTART;TZID=Europe/Moscow:20230914T100000
DTEND;TZID=Europe/Moscow:20230914T160000
DTSTAMP:20260420T231818
CREATED:20230629T180735Z
LAST-MODIFIED:20230629T180735Z
UID:295-1694685600-1694707200@mateuszgwizdalla.com
SUMMARY:Ostrobothnian Chamber Orchestra
DESCRIPTION:– conductor / composer – educational concerts taidetestaajat
URL:https://mateuszgwizdalla.com/calendar/ostrobothnian-chamber-orchestra/
LOCATION:Ylivieska\, Akustiikka Hall\, Finland
CATEGORIES:Composer/Arranger,Conducting
END:VEVENT
END:VCALENDAR