BEGIN:VCALENDAR
VERSION:2.0
PRODID:-//Mateusz Gwizdałła - ECPv6.15.20//NONSGML v1.0//EN
CALSCALE:GREGORIAN
METHOD:PUBLISH
X-WR-CALNAME:Mateusz Gwizdałła
X-ORIGINAL-URL:https://mateuszgwizdalla.com
X-WR-CALDESC:Events for Mateusz Gwizdałła
REFRESH-INTERVAL;VALUE=DURATION:PT1H
X-Robots-Tag:noindex
X-PUBLISHED-TTL:PT1H
BEGIN:VTIMEZONE
TZID:Europe/Moscow
BEGIN:STANDARD
TZOFFSETFROM:+0300
TZOFFSETTO:+0300
TZNAME:MSK
DTSTART:20220101T000000
END:STANDARD
END:VTIMEZONE
BEGIN:VEVENT
DTSTART;TZID=Europe/Moscow:20230711T130000
DTEND;TZID=Europe/Moscow:20230711T140000
DTSTAMP:20260421T021443
CREATED:20230711T063150Z
LAST-MODIFIED:20230711T063150Z
UID:305-1689080400-1689084000@mateuszgwizdalla.com
SUMMARY:Järvi Academy Sinfonietta
DESCRIPTION:Järvi Academy\nMasterclass concert
URL:https://mateuszgwizdalla.com/calendar/jarvi-academy-sinfonietta/
LOCATION:Arvo Pärt Centre\, Estonia
CATEGORIES:Conducting
END:VEVENT
BEGIN:VEVENT
DTSTART;TZID=Europe/Moscow:20230719T200000
DTEND;TZID=Europe/Moscow:20230719T200000
DTSTAMP:20260421T021443
CREATED:20230713T121101Z
LAST-MODIFIED:20230713T121101Z
UID:308-1689796800-1689796800@mateuszgwizdalla.com
SUMMARY:Järvi Academy Youth Symphony Orchestra
DESCRIPTION:Järvi Akadeemia lõppkontsert
URL:https://mateuszgwizdalla.com/calendar/jarvi-academy-youth-symphony-orchestra/
LOCATION:Pärnu Concert Hall\, Aida 4\, Pärnu\, Estonia
CATEGORIES:Conducting
END:VEVENT
END:VCALENDAR