BEGIN:VCALENDAR
VERSION:2.0
PRODID:-//Mateusz Gwizdałła - ECPv6.15.20//NONSGML v1.0//EN
CALSCALE:GREGORIAN
METHOD:PUBLISH
X-WR-CALNAME:Mateusz Gwizdałła
X-ORIGINAL-URL:https://mateuszgwizdalla.com
X-WR-CALDESC:Events for Mateusz Gwizdałła
REFRESH-INTERVAL;VALUE=DURATION:PT1H
X-Robots-Tag:noindex
X-PUBLISHED-TTL:PT1H
BEGIN:VTIMEZONE
TZID:Europe/Paris
BEGIN:DAYLIGHT
TZOFFSETFROM:+0100
TZOFFSETTO:+0200
TZNAME:CEST
DTSTART:20220327T010000
END:DAYLIGHT
BEGIN:STANDARD
TZOFFSETFROM:+0200
TZOFFSETTO:+0100
TZNAME:CET
DTSTART:20221030T010000
END:STANDARD
BEGIN:DAYLIGHT
TZOFFSETFROM:+0100
TZOFFSETTO:+0200
TZNAME:CEST
DTSTART:20230326T010000
END:DAYLIGHT
BEGIN:STANDARD
TZOFFSETFROM:+0200
TZOFFSETTO:+0100
TZNAME:CET
DTSTART:20231029T010000
END:STANDARD
BEGIN:DAYLIGHT
TZOFFSETFROM:+0100
TZOFFSETTO:+0200
TZNAME:CEST
DTSTART:20240331T010000
END:DAYLIGHT
BEGIN:STANDARD
TZOFFSETFROM:+0200
TZOFFSETTO:+0100
TZNAME:CET
DTSTART:20241027T010000
END:STANDARD
END:VTIMEZONE
BEGIN:VEVENT
DTSTART;TZID=Europe/Paris:20230614T140000
DTEND;TZID=Europe/Paris:20230614T140000
DTSTAMP:20260421T035513
CREATED:20230511T181846Z
LAST-MODIFIED:20230511T181922Z
UID:218-1686751200-1686751200@mateuszgwizdalla.com
SUMMARY:BBC Scottish Symphony Orchestra
DESCRIPTION:– conducting – concert following masterclasses with Martyn Brabbins
URL:https://mateuszgwizdalla.com/calendar/bbc-scottish-symphony-orchestra/
LOCATION:Glasgow Royal Concert Hall\, 2 Sauchiehall Street\, Glasgow\, United Kingdom
CATEGORIES:Conducting
END:VEVENT
END:VCALENDAR