BEGIN:VCALENDAR
VERSION:2.0
PRODID:-//Mateusz Gwizdałła - ECPv6.15.20//NONSGML v1.0//EN
CALSCALE:GREGORIAN
METHOD:PUBLISH
X-WR-CALNAME:Mateusz Gwizdałła
X-ORIGINAL-URL:https://mateuszgwizdalla.com
X-WR-CALDESC:Events for Mateusz Gwizdałła
REFRESH-INTERVAL;VALUE=DURATION:PT1H
X-Robots-Tag:noindex
X-PUBLISHED-TTL:PT1H
BEGIN:VTIMEZONE
TZID:Europe/Helsinki
BEGIN:DAYLIGHT
TZOFFSETFROM:+0200
TZOFFSETTO:+0300
TZNAME:EEST
DTSTART:20240331T010000
END:DAYLIGHT
BEGIN:STANDARD
TZOFFSETFROM:+0300
TZOFFSETTO:+0200
TZNAME:EET
DTSTART:20241027T010000
END:STANDARD
BEGIN:DAYLIGHT
TZOFFSETFROM:+0200
TZOFFSETTO:+0300
TZNAME:EEST
DTSTART:20250330T010000
END:DAYLIGHT
BEGIN:STANDARD
TZOFFSETFROM:+0300
TZOFFSETTO:+0200
TZNAME:EET
DTSTART:20251026T010000
END:STANDARD
BEGIN:DAYLIGHT
TZOFFSETFROM:+0200
TZOFFSETTO:+0300
TZNAME:EEST
DTSTART:20260329T010000
END:DAYLIGHT
BEGIN:STANDARD
TZOFFSETFROM:+0300
TZOFFSETTO:+0200
TZNAME:EET
DTSTART:20261025T010000
END:STANDARD
END:VTIMEZONE
BEGIN:VTIMEZONE
TZID:Europe/Amsterdam
BEGIN:DAYLIGHT
TZOFFSETFROM:+0100
TZOFFSETTO:+0200
TZNAME:CEST
DTSTART:20240331T010000
END:DAYLIGHT
BEGIN:STANDARD
TZOFFSETFROM:+0200
TZOFFSETTO:+0100
TZNAME:CET
DTSTART:20241027T010000
END:STANDARD
BEGIN:DAYLIGHT
TZOFFSETFROM:+0100
TZOFFSETTO:+0200
TZNAME:CEST
DTSTART:20250330T010000
END:DAYLIGHT
BEGIN:STANDARD
TZOFFSETFROM:+0200
TZOFFSETTO:+0100
TZNAME:CET
DTSTART:20251026T010000
END:STANDARD
BEGIN:DAYLIGHT
TZOFFSETFROM:+0100
TZOFFSETTO:+0200
TZNAME:CEST
DTSTART:20260329T010000
END:DAYLIGHT
BEGIN:STANDARD
TZOFFSETFROM:+0200
TZOFFSETTO:+0100
TZNAME:CET
DTSTART:20261025T010000
END:STANDARD
END:VTIMEZONE
BEGIN:VEVENT
DTSTART;TZID=Europe/Helsinki:20250514T180000
DTEND;TZID=Europe/Helsinki:20250514T193000
DTSTAMP:20260424T154947
CREATED:20250213T122424Z
LAST-MODIFIED:20250213T122747Z
UID:472-1747245600-1747251000@mateuszgwizdalla.com
SUMMARY:Jyväskylä Sinfonia: Tunturin tarina
DESCRIPTION:Mateusz Gwizdałła\, conductor\nVocal ensemble Tuuletar \nFilm direction: Marko Röhr\nComposition: Panu Aaltio\nFilm production: Hanna Kauppi
URL:https://mateuszgwizdalla.com/calendar/jyvaskyla-sinfonia-tunturin-tarina-film-concert/
LOCATION:Paviljonki\, Jyväskylä\, Finland
CATEGORIES:Conducting
END:VEVENT
BEGIN:VEVENT
DTSTART;VALUE=DATE:20250518
DTEND;VALUE=DATE:20250519
DTSTAMP:20260424T154947
CREATED:20250414T082630Z
LAST-MODIFIED:20250414T082847Z
UID:582-1747526400-1747612799@mateuszgwizdalla.com
SUMMARY:Mahler Festival: assisting Sakari Oramo with Berlin Philharmonic
DESCRIPTION:
URL:https://mateuszgwizdalla.com/calendar/mahler-festival-assisting-sakari-oramo-with-berlin-philharmonic/
LOCATION:Concertgebouw\, Concertgebouwplein 10\, Amsterdam\, 1071 BB\, Netherlands
CATEGORIES:Conducting
END:VEVENT
END:VCALENDAR